BEGIN:VCALENDAR
VERSION:2.0
PRODID:-//Old North State Food Hall - ECPv6.7.0//NONSGML v1.0//EN
CALSCALE:GREGORIAN
METHOD:PUBLISH
X-ORIGINAL-URL:https://onsfh.com
X-WR-CALDESC:Events for Old North State Food Hall
REFRESH-INTERVAL;VALUE=DURATION:PT1H
X-Robots-Tag:noindex
X-PUBLISHED-TTL:PT1H
BEGIN:VTIMEZONE
TZID:America/Detroit
BEGIN:DAYLIGHT
TZOFFSETFROM:-0500
TZOFFSETTO:-0400
TZNAME:EDT
DTSTART:20230312T070000
END:DAYLIGHT
BEGIN:STANDARD
TZOFFSETFROM:-0400
TZOFFSETTO:-0500
TZNAME:EST
DTSTART:20231105T060000
END:STANDARD
BEGIN:DAYLIGHT
TZOFFSETFROM:-0500
TZOFFSETTO:-0400
TZNAME:EDT
DTSTART:20240310T070000
END:DAYLIGHT
BEGIN:STANDARD
TZOFFSETFROM:-0400
TZOFFSETTO:-0500
TZNAME:EST
DTSTART:20241103T060000
END:STANDARD
END:VTIMEZONE
BEGIN:VEVENT
DTSTART;TZID=America/Detroit:20241024T100000
DTEND;TZID=America/Detroit:20241024T120000
DTSTAMP:20260421T204127
CREATED:20241001T145712Z
LAST-MODIFIED:20241001T145712Z
UID:10003013-1729764000-1729771200@onsfh.com
SUMMARY:Coffee with a Cop
DESCRIPTION:Get to know members of the Selma Police Department over a cup of coffee from JoCo Coffee Co at the Old North State Food Hall on Thursday\, October 24\, from 10 am to noon.
URL:https://onsfh.com/event/coffee-with-a-cop/
LOCATION:Old North State Food Hall
CATEGORIES:Community Events
ATTACH;FMTTYPE=image/jpeg:https://onsfh.com/wp-content/uploads/2024/10/coffee-with-a-cop.jpg
END:VEVENT
BEGIN:VEVENT
DTSTART;TZID=America/Detroit:20241019T110000
DTEND;TZID=America/Detroit:20241019T140000
DTSTAMP:20260421T204127
CREATED:20241001T145127Z
LAST-MODIFIED:20241001T145127Z
UID:10003010-1729335600-1729346400@onsfh.com
SUMMARY:Hispanic Heritage Celebration
DESCRIPTION:Join us for a vibrant Hispanic Heritage Celebration at the Old North State Food Hall on Saturday\, October 19\, from 11 am to 2 pm.  The event features: \n\nLatino artisans and Craft Vendors: Showcasing traditional Latino crafts and artwork.\nVendor Fair: A marketplace offering Latino-inspired products and services.\nFolkloric Dance Performances: Traditional dances performed by local groups celebrating Latino heritage.\nLive Music Performance: A special two hour concert by Sandra Pilldia\, who will be joined on stage by Miss Hispanic Heritage Diana Rivas.
URL:https://onsfh.com/event/hispanic-heritage-celebration/
LOCATION:Old North State Food Hall
CATEGORIES:Community Events,Crafts,Events & Shows,Live Music
ATTACH;FMTTYPE=image/png:https://onsfh.com/wp-content/uploads/2024/10/VIVA-Instagram-Post.png
END:VEVENT
BEGIN:VEVENT
DTSTART;TZID=America/Detroit:20240924T180000
DTEND;TZID=America/Detroit:20240924T193000
DTSTAMP:20260421T204127
CREATED:20240901T165032Z
LAST-MODIFIED:20240901T165316Z
UID:10003007-1727200800-1727206200@onsfh.com
SUMMARY:Wine and Cheese*Cake Tasting
DESCRIPTION:Enjoy 4 simply outrageous cheesecake varieties created by Mr. Outrageous paired with 4 wine samples at this special event at Old North State Food Hall. Join us for a Wine and Cheesecake tasting on Tuesday\, September 24\, from 6 to 7:30 p.m. Tickets\, at just $10 each\, must be purchased in advance. A limited number of tickets are available. Purchase tickets HERE. \n  \n 
URL:https://onsfh.com/event/wine-and-cheesecake-tasting/
LOCATION:Old North State Food Hall
CATEGORIES:Events & Shows
ATTACH;FMTTYPE=image/jpeg:https://onsfh.com/wp-content/uploads/2024/09/wine-2.jpg
END:VEVENT
BEGIN:VEVENT
DTSTART;TZID=America/Detroit:20240921T120000
DTEND;TZID=America/Detroit:20240921T140000
DTSTAMP:20260421T204127
CREATED:20240901T174558Z
LAST-MODIFIED:20240901T174558Z
UID:10003008-1726920000-1726927200@onsfh.com
SUMMARY:Capturing Beauty with Watercolors – A Workshop with Gina Huitt
DESCRIPTION:Join us for an inspiring watercolor workshop in collaboration with Gina Huitt at Old North State Food Hall\, where you’ll have the opportunity to paint stunning sunflowers or a charming house. \nLong-time painter and watercolor expert Gina Huitt will guide you through the intricacies of watercolor painting\, helping you capture your subject with your unique perspective. The beginner class\, running from 10:00 to 11:30\, will focus on painting sunflowers (SOLD OUT). The advanced class\, scheduled from 12:00 to 2:00\, will challenge you with painting a house. \nEnjoy a beautiful morning filled with creativity\, where there are no wrong answers\, and take your completed masterpiece home with you. \nDon’t miss this chance to learn from a master and create something truly special. Tickets are $40. Click HERE to purchase. \nAll supplies are included for the beginner class. Advanced class participants are asked to bring their own watercolor set.
URL:https://onsfh.com/event/capturing-beauty-with-watercolors-a-workshop-with-gina-huitt/
LOCATION:Old North State Food Hall
CATEGORIES:Community Events,Crafts
ATTACH;FMTTYPE=image/jpeg:https://onsfh.com/wp-content/uploads/2024/09/Watercolors-on-the-Farm-header.jpeg
END:VEVENT
BEGIN:VEVENT
DTSTART;TZID=America/Detroit:20240824T110000
DTEND;TZID=America/Detroit:20240824T170000
DTSTAMP:20260421T204127
CREATED:20240802T012044Z
LAST-MODIFIED:20240802T012044Z
UID:10003006-1724497200-1724518800@onsfh.com
SUMMARY:Small Batch Craft Market
DESCRIPTION:It’s time for another indoor craft market at Old North State Food Hall! Come grab some delicious food and support local makers and artists from 11 am to 5 pm!
URL:https://onsfh.com/event/small-batch-craft-market-4/
CATEGORIES:Community Events,Crafts
ATTACH;FMTTYPE=image/jpeg:https://onsfh.com/wp-content/uploads/2024/08/small-batch-market-aug-2024.jpg
END:VEVENT
BEGIN:VEVENT
DTSTART;TZID=America/Detroit:20240114T130000
DTEND;TZID=America/Detroit:20240114T170000
DTSTAMP:20260421T204127
CREATED:20240110T224905Z
LAST-MODIFIED:20240110T224907Z
UID:10002637-1705237200-1705251600@onsfh.com
SUMMARY:Southland Car Club Cruise In
DESCRIPTION:Southland Car Club\, based out of Smithfield\, NC\, is dedicated to the preservation\, restoration and enjoyment of all makes and models of antique\, classic and special interest vehicles. Enjoy their January Cruise In at the Old North State Food Hall parking lot on Sunday\, January 14\, from 1 to 5 pm. Enjoy lunch or dinner in the food hall before or after the event and save 10% with the code CarCruise.
URL:https://onsfh.com/event/southland-car-club-cruise-in-2/
LOCATION:Old North State Food Hall
CATEGORIES:Events & Shows
ATTACH;FMTTYPE=image/jpeg:https://onsfh.com/wp-content/uploads/2024/01/4.jpg
END:VEVENT
BEGIN:VEVENT
DTSTART;TZID=America/Detroit:20231216T120000
DTEND;TZID=America/Detroit:20231216T140000
DTSTAMP:20260421T204127
CREATED:20231026T014610Z
LAST-MODIFIED:20231026T014748Z
UID:10002613-1702728000-1702735200@onsfh.com
SUMMARY:Visit with Santa
DESCRIPTION:That jolly old elf will be coming to the Old North State Food Hall on December 2 (3 to 5 pm)\, 9 (12 to 2 pm)\, and 16 (12 to 2 pm). Bring your wish lists!
URL:https://onsfh.com/event/visit-with-santa/2023-12-16/
LOCATION:Old North State Food Hall
CATEGORIES:Events & Shows
ATTACH;FMTTYPE=image/jpeg:https://onsfh.com/wp-content/uploads/2023/10/HOLIDAY-ONSFH-Instagram-Post.jpg
END:VEVENT
BEGIN:VEVENT
DTSTART;TZID=America/Detroit:20231209T120000
DTEND;TZID=America/Detroit:20231209T140000
DTSTAMP:20260421T204127
CREATED:20231026T014610Z
LAST-MODIFIED:20231026T014748Z
UID:10002612-1702123200-1702130400@onsfh.com
SUMMARY:Visit with Santa
DESCRIPTION:That jolly old elf will be coming to the Old North State Food Hall on December 2 (3 to 5 pm)\, 9 (12 to 2 pm)\, and 16 (12 to 2 pm). Bring your wish lists!
URL:https://onsfh.com/event/visit-with-santa/2023-12-09/
LOCATION:Old North State Food Hall
CATEGORIES:Events & Shows
ATTACH;FMTTYPE=image/jpeg:https://onsfh.com/wp-content/uploads/2023/10/HOLIDAY-ONSFH-Instagram-Post.jpg
END:VEVENT
BEGIN:VEVENT
DTSTART;TZID=America/Detroit:20231202T150000
DTEND;TZID=America/Detroit:20231202T170000
DTSTAMP:20260421T204127
CREATED:20231026T014610Z
LAST-MODIFIED:20231026T014748Z
UID:10002611-1701529200-1701536400@onsfh.com
SUMMARY:Visit with Santa
DESCRIPTION:That jolly old elf will be coming to the Old North State Food Hall on December 2 (3 to 5 pm)\, 9 (12 to 2 pm)\, and 16 (12 to 2 pm). Bring your wish lists!
URL:https://onsfh.com/event/visit-with-santa/2023-12-02/
LOCATION:Old North State Food Hall
CATEGORIES:Events & Shows
ATTACH;FMTTYPE=image/jpeg:https://onsfh.com/wp-content/uploads/2023/10/HOLIDAY-ONSFH-Instagram-Post.jpg
END:VEVENT
BEGIN:VEVENT
DTSTART;TZID=America/Detroit:20231130T100000
DTEND;TZID=America/Detroit:20231130T150000
DTSTAMP:20260421T204127
CREATED:20231108T114947Z
LAST-MODIFIED:20231108T120514Z
UID:10002631-1701338400-1701356400@onsfh.com
SUMMARY:NaNoWriMo
DESCRIPTION:It’s National Novel Writing Month (NaNoWriMo)! ONSFH is dedicating a meeting room in the Longleaf Tavern for anyone to drop in and write during the month of November during regular business hours. Go to www.nanowrimo.org to learn more and register your writing project.
URL:https://onsfh.com/event/nanowrimo/2023-11-30/
LOCATION:Old North State Food Hall
CATEGORIES:Community Events
ATTACH;FMTTYPE=image/jpeg:https://onsfh.com/wp-content/uploads/2023/11/nanowrimo.jpg
END:VEVENT
BEGIN:VEVENT
DTSTART;TZID=America/Detroit:20231129T100000
DTEND;TZID=America/Detroit:20231129T150000
DTSTAMP:20260421T204127
CREATED:20231108T114947Z
LAST-MODIFIED:20231108T120514Z
UID:10002630-1701252000-1701270000@onsfh.com
SUMMARY:NaNoWriMo
DESCRIPTION:It’s National Novel Writing Month (NaNoWriMo)! ONSFH is dedicating a meeting room in the Longleaf Tavern for anyone to drop in and write during the month of November during regular business hours. Go to www.nanowrimo.org to learn more and register your writing project.
URL:https://onsfh.com/event/nanowrimo/2023-11-29/
LOCATION:Old North State Food Hall
CATEGORIES:Community Events
ATTACH;FMTTYPE=image/jpeg:https://onsfh.com/wp-content/uploads/2023/11/nanowrimo.jpg
END:VEVENT
BEGIN:VEVENT
DTSTART;TZID=America/Detroit:20231127T100000
DTEND;TZID=America/Detroit:20231127T150000
DTSTAMP:20260421T204127
CREATED:20231108T114947Z
LAST-MODIFIED:20231108T120514Z
UID:10002629-1701079200-1701097200@onsfh.com
SUMMARY:NaNoWriMo
DESCRIPTION:It’s National Novel Writing Month (NaNoWriMo)! ONSFH is dedicating a meeting room in the Longleaf Tavern for anyone to drop in and write during the month of November during regular business hours. Go to www.nanowrimo.org to learn more and register your writing project.
URL:https://onsfh.com/event/nanowrimo/2023-11-27/
LOCATION:Old North State Food Hall
CATEGORIES:Community Events
ATTACH;FMTTYPE=image/jpeg:https://onsfh.com/wp-content/uploads/2023/11/nanowrimo.jpg
END:VEVENT
BEGIN:VEVENT
DTSTART;TZID=America/Detroit:20231120T100000
DTEND;TZID=America/Detroit:20231120T150000
DTSTAMP:20260421T204127
CREATED:20231108T114947Z
LAST-MODIFIED:20231108T120514Z
UID:10002628-1700474400-1700492400@onsfh.com
SUMMARY:NaNoWriMo
DESCRIPTION:It’s National Novel Writing Month (NaNoWriMo)! ONSFH is dedicating a meeting room in the Longleaf Tavern for anyone to drop in and write during the month of November during regular business hours. Go to www.nanowrimo.org to learn more and register your writing project.
URL:https://onsfh.com/event/nanowrimo/2023-11-20/
LOCATION:Old North State Food Hall
CATEGORIES:Community Events
ATTACH;FMTTYPE=image/jpeg:https://onsfh.com/wp-content/uploads/2023/11/nanowrimo.jpg
END:VEVENT
BEGIN:VEVENT
DTSTART;TZID=America/Detroit:20231117T100000
DTEND;TZID=America/Detroit:20231117T150000
DTSTAMP:20260421T204127
CREATED:20231108T114947Z
LAST-MODIFIED:20231108T120514Z
UID:10002627-1700215200-1700233200@onsfh.com
SUMMARY:NaNoWriMo
DESCRIPTION:It’s National Novel Writing Month (NaNoWriMo)! ONSFH is dedicating a meeting room in the Longleaf Tavern for anyone to drop in and write during the month of November during regular business hours. Go to www.nanowrimo.org to learn more and register your writing project.
URL:https://onsfh.com/event/nanowrimo/2023-11-17/
LOCATION:Old North State Food Hall
CATEGORIES:Community Events
ATTACH;FMTTYPE=image/jpeg:https://onsfh.com/wp-content/uploads/2023/11/nanowrimo.jpg
END:VEVENT
BEGIN:VEVENT
DTSTART;TZID=America/Detroit:20231116T100000
DTEND;TZID=America/Detroit:20231116T150000
DTSTAMP:20260421T204127
CREATED:20231108T114947Z
LAST-MODIFIED:20231108T120514Z
UID:10002626-1700128800-1700146800@onsfh.com
SUMMARY:NaNoWriMo
DESCRIPTION:It’s National Novel Writing Month (NaNoWriMo)! ONSFH is dedicating a meeting room in the Longleaf Tavern for anyone to drop in and write during the month of November during regular business hours. Go to www.nanowrimo.org to learn more and register your writing project.
URL:https://onsfh.com/event/nanowrimo/2023-11-16/
LOCATION:Old North State Food Hall
CATEGORIES:Community Events
ATTACH;FMTTYPE=image/jpeg:https://onsfh.com/wp-content/uploads/2023/11/nanowrimo.jpg
END:VEVENT
BEGIN:VEVENT
DTSTART;TZID=America/Detroit:20231115T100000
DTEND;TZID=America/Detroit:20231115T150000
DTSTAMP:20260421T204127
CREATED:20231108T114947Z
LAST-MODIFIED:20231108T120514Z
UID:10002625-1700042400-1700060400@onsfh.com
SUMMARY:NaNoWriMo
DESCRIPTION:It’s National Novel Writing Month (NaNoWriMo)! ONSFH is dedicating a meeting room in the Longleaf Tavern for anyone to drop in and write during the month of November during regular business hours. Go to www.nanowrimo.org to learn more and register your writing project.
URL:https://onsfh.com/event/nanowrimo/2023-11-15/
LOCATION:Old North State Food Hall
CATEGORIES:Community Events
ATTACH;FMTTYPE=image/jpeg:https://onsfh.com/wp-content/uploads/2023/11/nanowrimo.jpg
END:VEVENT
BEGIN:VEVENT
DTSTART;TZID=America/Detroit:20231113T100000
DTEND;TZID=America/Detroit:20231113T150000
DTSTAMP:20260421T204127
CREATED:20231108T114947Z
LAST-MODIFIED:20231108T120514Z
UID:10002624-1699869600-1699887600@onsfh.com
SUMMARY:NaNoWriMo
DESCRIPTION:It’s National Novel Writing Month (NaNoWriMo)! ONSFH is dedicating a meeting room in the Longleaf Tavern for anyone to drop in and write during the month of November during regular business hours. Go to www.nanowrimo.org to learn more and register your writing project.
URL:https://onsfh.com/event/nanowrimo/2023-11-13/
LOCATION:Old North State Food Hall
CATEGORIES:Community Events
ATTACH;FMTTYPE=image/jpeg:https://onsfh.com/wp-content/uploads/2023/11/nanowrimo.jpg
END:VEVENT
BEGIN:VEVENT
DTSTART;TZID=America/Detroit:20231110T100000
DTEND;TZID=America/Detroit:20231110T150000
DTSTAMP:20260421T204127
CREATED:20231108T114947Z
LAST-MODIFIED:20231108T120514Z
UID:10002623-1699610400-1699628400@onsfh.com
SUMMARY:NaNoWriMo
DESCRIPTION:It’s National Novel Writing Month (NaNoWriMo)! ONSFH is dedicating a meeting room in the Longleaf Tavern for anyone to drop in and write during the month of November during regular business hours. Go to www.nanowrimo.org to learn more and register your writing project.
URL:https://onsfh.com/event/nanowrimo/2023-11-10/
LOCATION:Old North State Food Hall
CATEGORIES:Community Events
ATTACH;FMTTYPE=image/jpeg:https://onsfh.com/wp-content/uploads/2023/11/nanowrimo.jpg
END:VEVENT
BEGIN:VEVENT
DTSTART;TZID=America/Detroit:20231109T100000
DTEND;TZID=America/Detroit:20231109T150000
DTSTAMP:20260421T204127
CREATED:20231108T114947Z
LAST-MODIFIED:20231108T120514Z
UID:10002622-1699524000-1699542000@onsfh.com
SUMMARY:NaNoWriMo
DESCRIPTION:It’s National Novel Writing Month (NaNoWriMo)! ONSFH is dedicating a meeting room in the Longleaf Tavern for anyone to drop in and write during the month of November during regular business hours. Go to www.nanowrimo.org to learn more and register your writing project.
URL:https://onsfh.com/event/nanowrimo/2023-11-09/
LOCATION:Old North State Food Hall
CATEGORIES:Community Events
ATTACH;FMTTYPE=image/jpeg:https://onsfh.com/wp-content/uploads/2023/11/nanowrimo.jpg
END:VEVENT
BEGIN:VEVENT
DTSTART;TZID=America/Detroit:20231108T100000
DTEND;TZID=America/Detroit:20231108T150000
DTSTAMP:20260421T204127
CREATED:20231108T114947Z
LAST-MODIFIED:20231108T120514Z
UID:10002621-1699437600-1699455600@onsfh.com
SUMMARY:NaNoWriMo
DESCRIPTION:It’s National Novel Writing Month (NaNoWriMo)! ONSFH is dedicating a meeting room in the Longleaf Tavern for anyone to drop in and write during the month of November during regular business hours. Go to www.nanowrimo.org to learn more and register your writing project.
URL:https://onsfh.com/event/nanowrimo/2023-11-08/
LOCATION:Old North State Food Hall
CATEGORIES:Community Events
ATTACH;FMTTYPE=image/jpeg:https://onsfh.com/wp-content/uploads/2023/11/nanowrimo.jpg
END:VEVENT
BEGIN:VEVENT
DTSTART;TZID=America/Detroit:20230827T120000
DTEND;TZID=America/Detroit:20230827T150000
DTSTAMP:20260421T204127
CREATED:20230804T113925Z
LAST-MODIFIED:20230804T113925Z
UID:10002037-1693137600-1693148400@onsfh.com
SUMMARY:Touch a Truck Family Fun
DESCRIPTION:Celebrate our anniversary with a Touch a Truck event! Explore fire trucks\, emergency vehicles\, construction equipment and more. A portion of food sales from the day will support Backpack Buddies.
URL:https://onsfh.com/event/touch-a-truck-family-fun/
LOCATION:Old North State Food Hall
ATTACH;FMTTYPE=image/jpeg:https://onsfh.com/wp-content/uploads/2023/08/6.jpg
END:VEVENT
BEGIN:VEVENT
DTSTART;TZID=America/Detroit:20230826T180000
DTEND;TZID=America/Detroit:20230826T210000
DTSTAMP:20260421T204127
CREATED:20230804T113507Z
LAST-MODIFIED:20230804T113507Z
UID:10002036-1693072800-1693083600@onsfh.com
SUMMARY:Aesthetic Creations Car Show
DESCRIPTION:Celebrate our anniversary weekend with a car show from Aesthetic Creations\, in Collaboration with That Car Meet Guy and Honda Society.
URL:https://onsfh.com/event/aesthetic-creations-car-show/
LOCATION:Old North State Food Hall
CATEGORIES:Events & Shows
ATTACH;FMTTYPE=image/jpeg:https://onsfh.com/wp-content/uploads/2023/08/7.jpg
END:VEVENT
BEGIN:VEVENT
DTSTART;TZID=America/Detroit:20230826T120000
DTEND;TZID=America/Detroit:20230826T180000
DTSTAMP:20260421T204127
CREATED:20230804T113201Z
LAST-MODIFIED:20230804T113201Z
UID:10002035-1693051200-1693072800@onsfh.com
SUMMARY:Small Batch Craft Market
DESCRIPTION:Shop from local makers and creators at a craft market inside the food hall. Enjoy lunch or dinner at the food hall and check out the offerings from Anxious Arts by Ellis\, Bellarose Products\, Creations by Chris Noel\, Gatheringwell\, Something More Candle More Co.\, Violet & Wesley\, YGG Threads\, Carolina Natural Soaps\, Schatzi Stitches\, Smells Like Whiskey & Wood\, Blazing Paints Art Studio\, Vintage Curve\, Ruled by the Moon\, Nancy’s Creations\, and Made by Mamoo.
URL:https://onsfh.com/event/small-batch-craft-market/
LOCATION:Old North State Food Hall
CATEGORIES:Events & Shows
ATTACH;FMTTYPE=image/jpeg:https://onsfh.com/wp-content/uploads/2023/08/2.jpg
END:VEVENT
BEGIN:VEVENT
DTSTART;TZID=America/Detroit:20230825T193000
DTEND;TZID=America/Detroit:20230825T210000
DTSTAMP:20260421T204127
CREATED:20230804T112346Z
LAST-MODIFIED:20230804T112346Z
UID:10002034-1692991800-1692997200@onsfh.com
SUMMARY:American Portraits with Jonathan Levin and Tyrone Chambers
DESCRIPTION:International performing artists Tyrone Chambers and Jonathan Levin form a unique duo team as multi-genre vocalist and concert pianist/composer\, respectively. Don’t miss this fun concert which tells a story through selections inspired by folk songs\, spirituals\, poetry\, classic American musical theatre\, jazz influences\, and more. The music touches on areas of national pride\, racial struggles\, and conflicts of war and reconciliation\, all with an overarching theme of peace and unity\, including timeless classics and favorites\, as well as original works and arrangements conceived especially for their shows. Tickets are $25/online and $30/at the door.
URL:https://onsfh.com/event/american-portraits-with-jonathan-levin-and-tyrone-chambers/
LOCATION:Old North State Food Hall
CATEGORIES:Events & Shows,Live Music
ATTACH;FMTTYPE=image/jpeg:https://onsfh.com/wp-content/uploads/2023/08/1.jpg
END:VEVENT
END:VCALENDAR